BEGIN:VCALENDAR
VERSION:2.0
PRODID:-//US Retirement Education Association - ECPv6.15.20//NONSGML v1.0//EN
CALSCALE:GREGORIAN
METHOD:PUBLISH
X-ORIGINAL-URL:https://usreaworkshops.org
X-WR-CALDESC:Events for US Retirement Education Association
REFRESH-INTERVAL;VALUE=DURATION:PT1H
X-Robots-Tag:noindex
X-PUBLISHED-TTL:PT1H
BEGIN:VTIMEZONE
TZID:America/New_York
BEGIN:DAYLIGHT
TZOFFSETFROM:-0500
TZOFFSETTO:-0400
TZNAME:EDT
DTSTART:20240310T070000
END:DAYLIGHT
BEGIN:STANDARD
TZOFFSETFROM:-0400
TZOFFSETTO:-0500
TZNAME:EST
DTSTART:20241103T060000
END:STANDARD
BEGIN:DAYLIGHT
TZOFFSETFROM:-0500
TZOFFSETTO:-0400
TZNAME:EDT
DTSTART:20250309T070000
END:DAYLIGHT
BEGIN:STANDARD
TZOFFSETFROM:-0400
TZOFFSETTO:-0500
TZNAME:EST
DTSTART:20251102T060000
END:STANDARD
BEGIN:DAYLIGHT
TZOFFSETFROM:-0500
TZOFFSETTO:-0400
TZNAME:EDT
DTSTART:20260308T070000
END:DAYLIGHT
BEGIN:STANDARD
TZOFFSETFROM:-0400
TZOFFSETTO:-0500
TZNAME:EST
DTSTART:20261101T060000
END:STANDARD
END:VTIMEZONE
BEGIN:VEVENT
DTSTART;TZID=America/New_York:20250925T133000
DTEND;TZID=America/New_York:20250925T143000
DTSTAMP:20260420T145831
CREATED:20250807T141412Z
LAST-MODIFIED:20250807T141412Z
UID:3165-1758807000-1758810600@usreaworkshops.org
SUMMARY:Clear Lake City-County Freeman Branch Library | 09/25/2025 | 01:30 pm | 16616 Diana Ln\, Houston\, TX\, 77062
DESCRIPTION:Clear Lake City-County Freeman Branch Library | 09/25/2025 | 01:30 pm | 16616 Diana Ln\, Houston\, TX\, 77062
URL:https://usreaworkshops.org/event/clear-lake-city-county-freeman-branch-library-09-25-2025-0130-pm-16616-diana-ln-houston-tx-77062/
LOCATION:Clear Lake City-County Freeman Branch Library\, 16616 Diana Lane\, Houston\, TX\, 77062\, United States
CATEGORIES:Vic Kini Workshops
ATTACH;FMTTYPE=image/jpeg:https://usreaworkshops.org/wp-content/uploads/2025/08/Clear-Lake-City-County-Freeman-Branch-Library-xATQom.jpg
ORGANIZER;CN="Vic Kini":MAILTO:vic@vic4insurance.com
END:VEVENT
END:VCALENDAR