BEGIN:VCALENDAR
VERSION:2.0
PRODID:-//US Retirement Education Association - ECPv6.15.20//NONSGML v1.0//EN
CALSCALE:GREGORIAN
METHOD:PUBLISH
X-ORIGINAL-URL:https://usreaworkshops.org
X-WR-CALDESC:Events for US Retirement Education Association
REFRESH-INTERVAL;VALUE=DURATION:PT1H
X-Robots-Tag:noindex
X-PUBLISHED-TTL:PT1H
BEGIN:VTIMEZONE
TZID:America/New_York
BEGIN:DAYLIGHT
TZOFFSETFROM:-0500
TZOFFSETTO:-0400
TZNAME:EDT
DTSTART:20240310T070000
END:DAYLIGHT
BEGIN:STANDARD
TZOFFSETFROM:-0400
TZOFFSETTO:-0500
TZNAME:EST
DTSTART:20241103T060000
END:STANDARD
BEGIN:DAYLIGHT
TZOFFSETFROM:-0500
TZOFFSETTO:-0400
TZNAME:EDT
DTSTART:20250309T070000
END:DAYLIGHT
BEGIN:STANDARD
TZOFFSETFROM:-0400
TZOFFSETTO:-0500
TZNAME:EST
DTSTART:20251102T060000
END:STANDARD
BEGIN:DAYLIGHT
TZOFFSETFROM:-0500
TZOFFSETTO:-0400
TZNAME:EDT
DTSTART:20260308T070000
END:DAYLIGHT
BEGIN:STANDARD
TZOFFSETFROM:-0400
TZOFFSETTO:-0500
TZNAME:EST
DTSTART:20261101T060000
END:STANDARD
END:VTIMEZONE
BEGIN:VEVENT
DTSTART;TZID=America/New_York:20250922T180000
DTEND;TZID=America/New_York:20250922T190000
DTSTAMP:20260422T053535
CREATED:20250807T141317Z
LAST-MODIFIED:20250818T194503Z
UID:3110-1758564000-1758567600@usreaworkshops.org
SUMMARY:9/22/2025 6:00pm- St. Louis County Library – Oak Bend Branch  -  842 South Holmes Ave.\, St. Louis\, MO\, 63122
DESCRIPTION:Medicare 101: Everything You Need to Know!\nTurning 65 soon? This free educational workshop is designed to help you understand your Medicare options with clarity and confidence\, so you can make informed decisions about your health coverage.\nPresented by the U.S. Retirement Education Association\nEvent Overview\nThe U.S. Retirement Education Association is pleased to invite you to a complimentary 45-minute educational workshop specifically designed for individuals approaching the age of 65. Navigating health coverage options during this time can feel overwhelming\, which is why our presentation offers easy-to-understand guidance to help you feel confident and informed. This is a valuable opportunity to get answers to your most pressing questions. A must-attend event for anyone approaching age 65.\nWhat You’ll Learn\nHow do Medicare Parts A & B work?\nWhat are the costs involved?\nIs enrollment mandatory?\nCan I keep my employer’s plan?\nWhat plan options are available in my area?\nCan my spouse and I choose different plans?\nImportant Notes\nThis is a free educational event; no sales or plan-specific details will be discussed.\nYour information is kept secure and confidential.\nPlease provide a valid email and phone number for confirmation purposes.\nWorkshops provided by the U.S. Retirement Education Association. This event is hosted by a 501(c)(3) nonprofit organization and is intended solely for educational purposes. It is not a sales presentation. No insurance products will be marketed or sold. The presenter is not affiliated with Medicare\, CMS\, or any government agency.\nAny personal information collected will be used only to confirm attendance and provide educational materials. It will not be used for marketing purposes or shared with third parties under any circumstances.
URL:https://usreaworkshops.org/event/st-louis-county-library-oak-bend-branch-09-22-2025-0600-pm-842-south-holmes-ave-st-louis-mo-63122/
LOCATION:St. Louis County Library – Oak Bend Branch\, 698 S Holmes\, Saint Louis\, MO\, United States
CATEGORIES:Anne de Leon Workshops
ATTACH;FMTTYPE=image/jpeg:https://usreaworkshops.org/wp-content/uploads/2025/08/oak-bend-jGkwN9.jpg
ORGANIZER;CN="Anne de Leon":MAILTO:annedeleon2@gmail.com
END:VEVENT
BEGIN:VEVENT
DTSTART;TZID=America/New_York:20250923T180000
DTEND;TZID=America/New_York:20250923T190000
DTSTAMP:20260422T053535
CREATED:20250807T141348Z
LAST-MODIFIED:20250818T194506Z
UID:3135-1758650400-1758654000@usreaworkshops.org
SUMMARY:9/23/2025 6:00pm - St. Louis County Library – Daniel Boone Branch  -  300 Clarkson Rd\, Ballwin\, MO\, 63011
DESCRIPTION:Medicare 101: Everything You Need to Know!\nTurning 65 soon? This free educational workshop is designed to help you understand your Medicare options with clarity and confidence\, so you can make informed decisions about your health coverage.\nPresented by the U.S. Retirement Education Association\nEvent Overview\nThe U.S. Retirement Education Association is pleased to invite you to a complimentary 45-minute educational workshop specifically designed for individuals approaching the age of 65. Navigating health coverage options during this time can feel overwhelming\, which is why our presentation offers easy-to-understand guidance to help you feel confident and informed. This is a valuable opportunity to get answers to your most pressing questions. A must-attend event for anyone approaching age 65.\nWhat You’ll Learn\nHow do Medicare Parts A & B work?\nWhat are the costs involved?\nIs enrollment mandatory?\nCan I keep my employer’s plan?\nWhat plan options are available in my area?\nCan my spouse and I choose different plans?\nImportant Notes\nThis is a free educational event; no sales or plan-specific details will be discussed.\nYour information is kept secure and confidential.\nPlease provide a valid email and phone number for confirmation purposes.\nWorkshops provided by the U.S. Retirement Education Association. This event is hosted by a 501(c)(3) nonprofit organization and is intended solely for educational purposes. It is not a sales presentation. No insurance products will be marketed or sold. The presenter is not affiliated with Medicare\, CMS\, or any government agency.\nAny personal information collected will be used only to confirm attendance and provide educational materials. It will not be used for marketing purposes or shared with third parties under any circumstances.
URL:https://usreaworkshops.org/event/st-louis-county-library-daniel-boone-branch-09-23-2025-0600-pm-300-clarkson-rd-ballwin-mo-63011/
LOCATION:St. Louis County Library – Daniel Boone Branch\, 300 Clarkson Rd\, Ballwin\, MO\, United States
CATEGORIES:Anne de Leon Workshops
ATTACH;FMTTYPE=image/jpeg:https://usreaworkshops.org/wp-content/uploads/2025/08/DanielBoone-ahoOzs.jpg
ORGANIZER;CN="Anne de Leon":MAILTO:annedeleon2@gmail.com
END:VEVENT
BEGIN:VEVENT
DTSTART;TZID=America/New_York:20250924T180000
DTEND;TZID=America/New_York:20250924T190000
DTSTAMP:20260422T053535
CREATED:20250807T141411Z
LAST-MODIFIED:20250818T194519Z
UID:3160-1758736800-1758740400@usreaworkshops.org
SUMMARY:9/24/2025 6:00pm - St. Louis County Library – Bridgeton Trails Branch  -  3455 McKelvey Rd\, Bridgeton\, MO\, 63044
DESCRIPTION:Medicare 101: Everything You Need to Know!\nTurning 65 soon? This free educational workshop is designed to help you understand your Medicare options with clarity and confidence\, so you can make informed decisions about your health coverage.\nPresented by the U.S. Retirement Education Association\nEvent Overview\nThe U.S. Retirement Education Association is pleased to invite you to a complimentary 45-minute educational workshop specifically designed for individuals approaching the age of 65. Navigating health coverage options during this time can feel overwhelming\, which is why our presentation offers easy-to-understand guidance to help you feel confident and informed. This is a valuable opportunity to get answers to your most pressing questions. A must-attend event for anyone approaching age 65.\nWhat You’ll Learn\nHow do Medicare Parts A & B work?\nWhat are the costs involved?\nIs enrollment mandatory?\nCan I keep my employer’s plan?\nWhat plan options are available in my area?\nCan my spouse and I choose different plans?\nImportant Notes\nThis is a free educational event; no sales or plan-specific details will be discussed.\nYour information is kept secure and confidential.\nPlease provide a valid email and phone number for confirmation purposes.\nWorkshops provided by the U.S. Retirement Education Association. This event is hosted by a 501(c)(3) nonprofit organization and is intended solely for educational purposes. It is not a sales presentation. No insurance products will be marketed or sold. The presenter is not affiliated with Medicare\, CMS\, or any government agency.\nAny personal information collected will be used only to confirm attendance and provide educational materials. It will not be used for marketing purposes or shared with third parties under any circumstances.
URL:https://usreaworkshops.org/event/st-louis-county-library-bridgeton-trails-branch-09-24-2025-0600-pm-3455-mckelvey-rd-bridgeton-mo-63044/
LOCATION:St. Louis County Library – Bridgeton Trails Branch\, 3455 McKelvey Rd\, Bridgeton\, MO\, United States
CATEGORIES:Anne de Leon Workshops
ATTACH;FMTTYPE=image/jpeg:https://usreaworkshops.org/wp-content/uploads/2025/08/Bridgeton-1-Ofw9zY.jpg
ORGANIZER;CN="Anne de Leon":MAILTO:annedeleon2@gmail.com
END:VEVENT
BEGIN:VEVENT
DTSTART;TZID=America/New_York:20250929T153000
DTEND;TZID=America/New_York:20250929T163000
DTSTAMP:20260422T053535
CREATED:20250807T141433Z
LAST-MODIFIED:20250818T194549Z
UID:3188-1759159800-1759163400@usreaworkshops.org
SUMMARY:9/29/2025 3:30pm - St. Louis County Library – Grant’s View Branch  -  9700 Musick Ave\, St. Louis\, MO\, 63123
DESCRIPTION:Medicare 101: Everything You Need to Know!\nTurning 65 soon? This free educational workshop is designed to help you understand your Medicare options with clarity and confidence\, so you can make informed decisions about your health coverage.\nPresented by the U.S. Retirement Education Association\nEvent Overview\nThe U.S. Retirement Education Association is pleased to invite you to a complimentary 45-minute educational workshop specifically designed for individuals approaching the age of 65. Navigating health coverage options during this time can feel overwhelming\, which is why our presentation offers easy-to-understand guidance to help you feel confident and informed. This is a valuable opportunity to get answers to your most pressing questions. A must-attend event for anyone approaching age 65.\nWhat You’ll Learn\nHow do Medicare Parts A & B work?\nWhat are the costs involved?\nIs enrollment mandatory?\nCan I keep my employer’s plan?\nWhat plan options are available in my area?\nCan my spouse and I choose different plans?\nImportant Notes\nThis is a free educational event; no sales or plan-specific details will be discussed.\nYour information is kept secure and confidential.\nPlease provide a valid email and phone number for confirmation purposes.\nWorkshops provided by the U.S. Retirement Education Association. This event is hosted by a 501(c)(3) nonprofit organization and is intended solely for educational purposes. It is not a sales presentation. No insurance products will be marketed or sold. The presenter is not affiliated with Medicare\, CMS\, or any government agency.\nAny personal information collected will be used only to confirm attendance and provide educational materials. It will not be used for marketing purposes or shared with third parties under any circumstances.
URL:https://usreaworkshops.org/event/st-louis-county-library-grants-view-branch-09-29-2025-0330-pm-9700-musick-ave-st-louis-mo-63123/
LOCATION:St. Louis County Library – Grant’s View Branch\, 9700 Musick Rd\, Saint Louis\, MO\, United States
CATEGORIES:Anne de Leon Workshops
ATTACH;FMTTYPE=image/jpeg:https://usreaworkshops.org/wp-content/uploads/2025/08/Grants_View-JEezMA.jpg
ORGANIZER;CN="Anne de Leon":MAILTO:annedeleon2@gmail.com
END:VEVENT
BEGIN:VEVENT
DTSTART;TZID=America/New_York:20250930T180000
DTEND;TZID=America/New_York:20250930T190000
DTSTAMP:20260422T053535
CREATED:20250807T141447Z
LAST-MODIFIED:20250818T194550Z
UID:3198-1759255200-1759258800@usreaworkshops.org
SUMMARY:9/30/2025 6:00pm - St. Louis County Library - Clark Family Branch  -  1640 South Lindbergh Blvd.\, St. Louis\, MO\, 63131
DESCRIPTION:Medicare 101: Everything You Need to Know!\nTurning 65 soon? This free educational workshop is designed to help you understand your Medicare options with clarity and confidence\, so you can make informed decisions about your health coverage.\nPresented by the U.S. Retirement Education Association\nEvent Overview\nThe U.S. Retirement Education Association is pleased to invite you to a complimentary 45-minute educational workshop specifically designed for individuals approaching the age of 65. Navigating health coverage options during this time can feel overwhelming\, which is why our presentation offers easy-to-understand guidance to help you feel confident and informed. This is a valuable opportunity to get answers to your most pressing questions. A must-attend event for anyone approaching age 65.\nWhat You’ll Learn\nHow do Medicare Parts A & B work?\nWhat are the costs involved?\nIs enrollment mandatory?\nCan I keep my employer’s plan?\nWhat plan options are available in my area?\nCan my spouse and I choose different plans?\nImportant Notes\nThis is a free educational event; no sales or plan-specific details will be discussed.\nYour information is kept secure and confidential.\nPlease provide a valid email and phone number for confirmation purposes.\nWorkshops provided by the U.S. Retirement Education Association. This event is hosted by a 501(c)(3) nonprofit organization and is intended solely for educational purposes. It is not a sales presentation. No insurance products will be marketed or sold. The presenter is not affiliated with Medicare\, CMS\, or any government agency.\nAny personal information collected will be used only to confirm attendance and provide educational materials. It will not be used for marketing purposes or shared with third parties under any circumstances.
URL:https://usreaworkshops.org/event/st-louis-county-library-clark-family-branch-09-30-2025-0600-pm-1640-south-lindbergh-blvd-st-louis-mo-63131/
LOCATION:St. Louis County Library – Clark Family Branch\, 1640 S Lindbergh Blvd\, Saint Louis\, MO\, United States
CATEGORIES:Anne de Leon Workshops
ATTACH;FMTTYPE=image/jpeg:https://usreaworkshops.org/wp-content/uploads/2025/08/ClarkFamily-ff7DOo.jpg
ORGANIZER;CN="Anne de Leon":MAILTO:annedeleon2@gmail.com
END:VEVENT
END:VCALENDAR