BEGIN:VCALENDAR
VERSION:2.0
PRODID:-//US Retirement Education Association - ECPv6.15.20//NONSGML v1.0//EN
CALSCALE:GREGORIAN
METHOD:PUBLISH
X-WR-CALNAME:US Retirement Education Association
X-ORIGINAL-URL:https://usreaworkshops.org
X-WR-CALDESC:Events for US Retirement Education Association
REFRESH-INTERVAL;VALUE=DURATION:PT1H
X-Robots-Tag:noindex
X-PUBLISHED-TTL:PT1H
BEGIN:VTIMEZONE
TZID:America/New_York
BEGIN:DAYLIGHT
TZOFFSETFROM:-0500
TZOFFSETTO:-0400
TZNAME:EDT
DTSTART:20250309T070000
END:DAYLIGHT
BEGIN:STANDARD
TZOFFSETFROM:-0400
TZOFFSETTO:-0500
TZNAME:EST
DTSTART:20251102T060000
END:STANDARD
BEGIN:DAYLIGHT
TZOFFSETFROM:-0500
TZOFFSETTO:-0400
TZNAME:EDT
DTSTART:20260308T070000
END:DAYLIGHT
BEGIN:STANDARD
TZOFFSETFROM:-0400
TZOFFSETTO:-0500
TZNAME:EST
DTSTART:20261101T060000
END:STANDARD
BEGIN:DAYLIGHT
TZOFFSETFROM:-0500
TZOFFSETTO:-0400
TZNAME:EDT
DTSTART:20270314T070000
END:DAYLIGHT
BEGIN:STANDARD
TZOFFSETFROM:-0400
TZOFFSETTO:-0500
TZNAME:EST
DTSTART:20271107T060000
END:STANDARD
END:VTIMEZONE
BEGIN:VTIMEZONE
TZID:America/Indiana/Indianapolis
BEGIN:DAYLIGHT
TZOFFSETFROM:-0500
TZOFFSETTO:-0400
TZNAME:EDT
DTSTART:20250309T070000
END:DAYLIGHT
BEGIN:STANDARD
TZOFFSETFROM:-0400
TZOFFSETTO:-0500
TZNAME:EST
DTSTART:20251102T060000
END:STANDARD
BEGIN:DAYLIGHT
TZOFFSETFROM:-0500
TZOFFSETTO:-0400
TZNAME:EDT
DTSTART:20260308T070000
END:DAYLIGHT
BEGIN:STANDARD
TZOFFSETFROM:-0400
TZOFFSETTO:-0500
TZNAME:EST
DTSTART:20261101T060000
END:STANDARD
BEGIN:DAYLIGHT
TZOFFSETFROM:-0500
TZOFFSETTO:-0400
TZNAME:EDT
DTSTART:20270314T070000
END:DAYLIGHT
BEGIN:STANDARD
TZOFFSETFROM:-0400
TZOFFSETTO:-0500
TZNAME:EST
DTSTART:20271107T060000
END:STANDARD
END:VTIMEZONE
BEGIN:VTIMEZONE
TZID:America/Denver
BEGIN:DAYLIGHT
TZOFFSETFROM:-0700
TZOFFSETTO:-0600
TZNAME:MDT
DTSTART:20250309T090000
END:DAYLIGHT
BEGIN:STANDARD
TZOFFSETFROM:-0600
TZOFFSETTO:-0700
TZNAME:MST
DTSTART:20251102T080000
END:STANDARD
BEGIN:DAYLIGHT
TZOFFSETFROM:-0700
TZOFFSETTO:-0600
TZNAME:MDT
DTSTART:20260308T090000
END:DAYLIGHT
BEGIN:STANDARD
TZOFFSETFROM:-0600
TZOFFSETTO:-0700
TZNAME:MST
DTSTART:20261101T080000
END:STANDARD
BEGIN:DAYLIGHT
TZOFFSETFROM:-0700
TZOFFSETTO:-0600
TZNAME:MDT
DTSTART:20270314T090000
END:DAYLIGHT
BEGIN:STANDARD
TZOFFSETFROM:-0600
TZOFFSETTO:-0700
TZNAME:MST
DTSTART:20271107T080000
END:STANDARD
END:VTIMEZONE
BEGIN:VTIMEZONE
TZID:America/Chicago
BEGIN:DAYLIGHT
TZOFFSETFROM:-0600
TZOFFSETTO:-0500
TZNAME:CDT
DTSTART:20250309T080000
END:DAYLIGHT
BEGIN:STANDARD
TZOFFSETFROM:-0500
TZOFFSETTO:-0600
TZNAME:CST
DTSTART:20251102T070000
END:STANDARD
BEGIN:DAYLIGHT
TZOFFSETFROM:-0600
TZOFFSETTO:-0500
TZNAME:CDT
DTSTART:20260308T080000
END:DAYLIGHT
BEGIN:STANDARD
TZOFFSETFROM:-0500
TZOFFSETTO:-0600
TZNAME:CST
DTSTART:20261101T070000
END:STANDARD
BEGIN:DAYLIGHT
TZOFFSETFROM:-0600
TZOFFSETTO:-0500
TZNAME:CDT
DTSTART:20270314T080000
END:DAYLIGHT
BEGIN:STANDARD
TZOFFSETFROM:-0500
TZOFFSETTO:-0600
TZNAME:CST
DTSTART:20271107T070000
END:STANDARD
END:VTIMEZONE
BEGIN:VEVENT
DTSTART;TZID=America/New_York:20260423T110000
DTEND;TZID=America/New_York:20260423T120000
DTSTAMP:20260423T011914
CREATED:20260418T035342Z
LAST-MODIFIED:20260421T155101Z
UID:5778-1776942000-1776945600@usreaworkshops.org
SUMMARY:Medicare Made Easy with Chaz Mulherin Webinar
DESCRIPTION:Our FREE Medicare webinar offers the insights you need. Tap Sign Up now and make your Medicare journey smooth and stress-free!\n\n\nMedicare 101: Everything You Need to Know! \nPresented by the U.S. Retirement Education Association \nJoin us for a complimentary 45-minute educational workshop designed to help individuals approaching age 65 navigate the complexities of Medicare with confidence. \n🎓 What You’ll Learn \nThis session will answer key questions such as: \n\nHow do Medicare Parts A & B work?\n\n\nWhat are the costs involved?\n\n\nIs enrollment mandatory?\n\n\nCan I keep my employer’s plan?\n\n\nWhat plan options are available in my area?\n\n\nCan my spouse and I choose different plans?\n\n👤 Featured Presenter: Chaz Mulherin \nChaz has been licensed in Florida since February of 2009. He started his insurance career with a company called Great American Senior Benefits\, based out of Cincinnati Ohio. In 2010\, he started his own company\, My Medicare Hotline and has since helped over 1\,000 seniors enroll in Medicare and choose a Medicare plan. He is contracted with every Medicare plan in Florida. Chaz takes great pride to ensure that every client is enrolled in a plan that best suits their needs. Because he is not tied to one company\, you’re sure to receive an unbiased opinion. \n \nSecure Your Spot and Register Here: \nhttps://usmedi.care/chaz-mulherin \n \n✅ Important Notes \n\nThis is a free educational event—no sales or plan-specific details will be discussed.\n\n\nYour information is kept secure and confidential.\n\n\nPlease provide a valid email and phone number for confirmation purposes.\n\n🎟️ Reserve Your Seat Today! \nSeats are limited. Register now to secure your spot at one of our upcoming sessions. \nDisclaimer: Currently\, we represent 11 organizations which offer 48 products in your area. You may also contact Medicare.gov\, 1-800-MEDICARE\, or your local State Health Insurance Program (SHIP) for help with plan choices. \nBy submitting this form\, you consent to being contacted by a licensed representative of the U.S. Retirement Education Association. Your personal information will remain confidential and will never be sold. By clicking ‘Continue\,’ you agree to receive text communications.
URL:https://usreaworkshops.org/event/medicare-made-easy-with-chaz-mulherin-webinar-14/
LOCATION:FL
ATTACH;FMTTYPE=image/jpeg:https://usreaworkshops.org/wp-content/uploads/2026/04/0dc33c5b360d18eaa7d161aaa3e87e8f.jpg
END:VEVENT
BEGIN:VEVENT
DTSTART;TZID=America/Indiana/Indianapolis:20260423T133000
DTEND;TZID=America/Indiana/Indianapolis:20260423T143000
DTSTAMP:20260423T011914
CREATED:20260312T195408Z
LAST-MODIFIED:20260422T234819Z
UID:5474-1776951000-1776954600@usreaworkshops.org
SUMMARY:Medicare Made Easy with Ryan Templeton
DESCRIPTION:Our FREE Medicare workshop offers the insights you need. Tap Sign Up now and make your Medicare journey smooth and stress-free!
URL:https://usreaworkshops.org/event/medicare-made-easy-with-ryan-templeton-21/
LOCATION:Indianapolis Public Library- Michigan Road Branch\, 6201 Michigan Road\, Indianapolis\, IN\, 46268\, United States
ATTACH;FMTTYPE=image/jpeg:https://usreaworkshops.org/wp-content/uploads/2026/01/fc84fb4b289a9cfb9d35c11954e7f84a.jpg
END:VEVENT
BEGIN:VEVENT
DTSTART;TZID=America/Indiana/Indianapolis:20260423T173000
DTEND;TZID=America/Indiana/Indianapolis:20260423T183000
DTSTAMP:20260423T011914
CREATED:20260329T155010Z
LAST-MODIFIED:20260421T155015Z
UID:5643-1776965400-1776969000@usreaworkshops.org
SUMMARY:Medicare Made Easy with Yogi Thompson
DESCRIPTION:Our FREE Medicare workshop offers the insights you need. Tap Sign Up now and make your Medicare journey smooth and stress-free!
URL:https://usreaworkshops.org/event/medicare-made-easy-with-yogi-thompson-22/
LOCATION:Vigo County Public Library\, 680 Poplar Street\, Terre Haute\, IN\, 47807\, United States
ATTACH;FMTTYPE=image/jpeg:https://usreaworkshops.org/wp-content/uploads/2026/03/d99199b4f2448a4efb31dd60543d3378.jpg
END:VEVENT
BEGIN:VEVENT
DTSTART;TZID=America/Indiana/Indianapolis:20260423T180000
DTEND;TZID=America/Indiana/Indianapolis:20260423T190000
DTSTAMP:20260423T011914
CREATED:20260226T085218Z
LAST-MODIFIED:20260421T155101Z
UID:5339-1776967200-1776970800@usreaworkshops.org
SUMMARY:Medicare Made Easy with Ryan Templeton
DESCRIPTION:Our FREE Medicare workshop offers the insights you need. Tap Sign Up now and make your Medicare journey smooth and stress-free!\n\n\nMedicare 101: Everything You Need to Know! \nPresented by the U.S. Retirement Education Association \nJoin us for a complimentary 45-minute educational workshop designed to help individuals approaching age 65 navigate the complexities of Medicare with confidence. \n🎓 What You’ll Learn \nThis session will answer key questions such as: \n\nHow do Medicare Parts A & B work?\n\n\nWhat are the costs involved?\n\n\nIs enrollment mandatory?\n\n\nCan I keep my employer’s plan?\n\n\nWhat plan options are available in my area?\n\n\nCan my spouse and I choose different plans?\n\n👤 Featured Presenter: Ryan Templeton \nRyan is the Owner and Regional Director of Premier Health Advisors. He and his wife\, Sarah\, reside in Mccordsville\, IN with their 2 children. PHA services all of Indiana\, Ohio\, and Kentucky. Ryan found early on in his career that his true passion and calling was to help people. After working as a captive agent under one company since the start of his career\, he took a leap of faith and went out on his own. After many years in the industry\, his career goal was to develop his own agency with a true “client first” mentality. \n \nSecure Your Spot and Register Here: \nRyan Templeton – Medicare 101 \n\nThis is a free educational event—no sales or plan-specific details will be discussed.\n\n\nYour information is kept secure and confidential.\n\n\nPlease provide a valid email and phone number for confirmation purposes.\n\n🎟️ Reserve Your Seat Today! \nSeats are limited. Register now to secure your spot at one of our upcoming sessions. \nDisclaimer: We do not offer every plan avail. in your area. Currently we represent 6 orgs which offer 51 products in your area. Please contact Medicare.gov\, 1-800-MEDICARE\, or your local State Health Insurance Program (SHIP) to get information on all of your options.
URL:https://usreaworkshops.org/event/medicare-made-easy-with-ryan-templeton-20/
LOCATION:Hamilton East Public Library\, 1 Library Plaza\, Noblesville\, IN\, 46060\, United States
ATTACH;FMTTYPE=image/jpeg:https://usreaworkshops.org/wp-content/uploads/2026/02/82f30c88d3fedb60f107db8785b300f7.jpg
END:VEVENT
BEGIN:VEVENT
DTSTART;TZID=America/New_York:20260423T180000
DTEND;TZID=America/New_York:20260423T190000
DTSTAMP:20260423T011914
CREATED:20260307T210509Z
LAST-MODIFIED:20260422T234909Z
UID:5386-1776967200-1776970800@usreaworkshops.org
SUMMARY:Medicare Made Easy with Sean Valentine
DESCRIPTION:Our FREE Medicare workshop offers the insights you need. Tap Sign Up now and make your Medicare journey smooth and stress-free!
URL:https://usreaworkshops.org/event/medicare-made-easy-with-sean-valentine-45/
LOCATION:Venice Community Center\, 326 Nokomis Avenue South\, Venice\, FL\, 34285\, United States
ATTACH;FMTTYPE=image/jpeg:https://usreaworkshops.org/wp-content/uploads/2026/03/e092ef57e53bc8c8c21b34c8db3c5f18.jpg
END:VEVENT
BEGIN:VEVENT
DTSTART;TZID=America/Denver:20260423T180000
DTEND;TZID=America/Denver:20260423T190000
DTSTAMP:20260423T011914
CREATED:20260310T195339Z
LAST-MODIFIED:20260422T234924Z
UID:5463-1776967200-1776970800@usreaworkshops.org
SUMMARY:Medicare Made Easy with Jim Garey
DESCRIPTION:Our FREE Medicare workshop offers the insights you need. Tap Sign Up now and make your Medicare journey smooth and stress-free!
URL:https://usreaworkshops.org/event/medicare-made-easy-with-jim-garey-29/
LOCATION:Douglas County Libraries: Highlands Ranch\, 9292 Ridgeline Boulevard\, Highlands Ranch\, CO\, 80129\, United States
ATTACH;FMTTYPE=image/jpeg:https://usreaworkshops.org/wp-content/uploads/2026/03/3f1dc0bc9e7da47bb728f6164eaaa2f8.jpg
END:VEVENT
BEGIN:VEVENT
DTSTART;TZID=America/Indiana/Indianapolis:20260423T180000
DTEND;TZID=America/Indiana/Indianapolis:20260423T190000
DTSTAMP:20260423T011914
CREATED:20260326T001102Z
LAST-MODIFIED:20260422T234945Z
UID:5624-1776967200-1776970800@usreaworkshops.org
SUMMARY:Medicare Made Easy with Walt Scheid
DESCRIPTION:Our FREE Medicare workshop offers the insights you need. Tap Sign Up now and make your Medicare journey smooth and stress-free!
URL:https://usreaworkshops.org/event/medicare-made-easy-with-walt-scheid-25/
LOCATION:Avon-Washington Township Public Library\, 498 North Avon Avenue\, Avon\, IN\, 46123\, United States
ATTACH;FMTTYPE=image/jpeg:https://usreaworkshops.org/wp-content/uploads/2026/03/4e77eacc293840a1af31e9127bed3e32.jpg
END:VEVENT
BEGIN:VEVENT
DTSTART;TZID=America/Chicago:20260423T180000
DTEND;TZID=America/Chicago:20260423T190000
DTSTAMP:20260423T011914
CREATED:20260418T035345Z
LAST-MODIFIED:20260421T155102Z
UID:5781-1776967200-1776970800@usreaworkshops.org
SUMMARY:Medicare Made Easy with Sergio Gutierrez
DESCRIPTION:Our FREE Medicare workshop offers the insights you need. Tap Sign Up now and make your Medicare journey smooth and stress-free!
URL:https://usreaworkshops.org/event/medicare-made-easy-with-sergio-gutierrez/
LOCATION:Palos Heights Public Library\, 12501 South 71st Avenue\, Palos Heights\, IL\, 60463\, United States
ATTACH;FMTTYPE=image/jpeg:https://usreaworkshops.org/wp-content/uploads/2026/04/a5a59348afe64a8241195968280526ba.jpg
END:VEVENT
BEGIN:VEVENT
DTSTART;TZID=America/New_York:20260423T180000
DTEND;TZID=America/New_York:20260423T190000
DTSTAMP:20260423T011914
CREATED:20260418T035350Z
LAST-MODIFIED:20260421T155104Z
UID:5787-1776967200-1776970800@usreaworkshops.org
SUMMARY:Medicare Made Easy with Larry Riddell
DESCRIPTION:Our FREE Medicare workshop offers the insights you need. Tap Sign Up now and make your Medicare journey smooth and stress-free!
URL:https://usreaworkshops.org/event/medicare-made-easy-with-larry-riddell-22/
LOCATION:Lorain Public Library System Columbia Branch\, 13824 West River Road\, Columbia Station\, OH\, 44028\, United States
ATTACH;FMTTYPE=image/jpeg:https://usreaworkshops.org/wp-content/uploads/2026/04/f1ff69877e41bc335629a5fdc93f522b.jpg
END:VEVENT
BEGIN:VEVENT
DTSTART;TZID=America/Chicago:20260423T180000
DTEND;TZID=America/Chicago:20260423T190000
DTSTAMP:20260423T011914
CREATED:20260419T155312Z
LAST-MODIFIED:20260421T155103Z
UID:5799-1776967200-1776970800@usreaworkshops.org
SUMMARY:Medicare Made Easy with Greg Greenwalt
DESCRIPTION:Our FREE Medicare workshop offers the insights you need. Tap Sign Up now and make your Medicare journey smooth and stress-free!\n\n\nMedicare 101: Everything You Need to Know! \nPresented by the U.S. Retirement Education Association \nJoin us for a complimentary 45-minute educational workshop designed to help individuals approaching age 65 navigate the complexities of Medicare with confidence. \n🎓 What You’ll Learn \nThis session will answer key questions such as: \n\nHow do Medicare Parts A & B work?\n\n\nWhat are the costs involved?\n\n\nIs enrollment mandatory?\n\n\nCan I keep my employer’s plan?\n\n\nWhat plan options are available in my area?\n\n\nCan my spouse and I choose different plans?\n\n👤 Featured Presenter: Greg Greenwalt \nGreg is a resident of Jackson\, Missouri. Prior to entering the insurance industry\, Greg worked as a high school biology teacher and piano tuner for 16 years. He was eventually approached to enter the insurance sales field and educate families on life insurance and how it could be used to assist in accumulating funds for college\, retirement\, and mortgage acceleration. After about 5 years\, Greg branched out into other products in succession until he was fully conversant on each. His entire approach was to share ideas with clients on how they could properly manage their money for accumulation\, protection of assets\, income protection\, health insurance\, cancer coverage\, and long-term care policies. \n \nSecure Your Spot and Register Here: \nGreg Greenwalt – Medicare 101 \n \n✅ Important Notes \n\nThis is a free educational event—no sales or plan-specific details will be discussed.\n\n\nYour information is kept secure and confidential.\n\n\nPlease provide a valid email and phone number for confirmation purposes.\n\n🎟️ Reserve Your Seat Today! \nSeats are limited. Register now to secure your spot at one of our upcoming sessions. \nDisclaimer: We do not offer every plan avail. in your area. Currently we represent 10 orgs which offer 71 products in your area. Please contact Medicare.gov\, 1-800-MEDICARE\, or your local State Health Insurance Program (SHIP) to get information on all of your options \nBy submitting this form\, you consent to being contacted by a licensed representative of the U.S. Retirement Education Association. Your personal information will remain confidential and will never be sold. By clicking ‘Continue\,’ you agree to receive text communications.
URL:https://usreaworkshops.org/event/medicare-made-easy-with-greg-greenwalt-23/
LOCATION:Mid-Continent Public Library – Blue Springs North Branch\, 850 Northwest Hunter Drive\, Blue Springs\, MO\, 64015\, United States
ATTACH;FMTTYPE=image/jpeg:https://usreaworkshops.org/wp-content/uploads/2026/04/81f2d8c2ee5d7e3f04061a5df975991c.jpg
END:VEVENT
END:VCALENDAR