BEGIN:VCALENDAR
VERSION:2.0
PRODID:-//US Retirement Education Association - ECPv6.15.20//NONSGML v1.0//EN
CALSCALE:GREGORIAN
METHOD:PUBLISH
X-WR-CALNAME:US Retirement Education Association
X-ORIGINAL-URL:https://usreaworkshops.org
X-WR-CALDESC:Events for US Retirement Education Association
REFRESH-INTERVAL;VALUE=DURATION:PT1H
X-Robots-Tag:noindex
X-PUBLISHED-TTL:PT1H
BEGIN:VTIMEZONE
TZID:America/New_York
BEGIN:DAYLIGHT
TZOFFSETFROM:-0500
TZOFFSETTO:-0400
TZNAME:EDT
DTSTART:20250309T070000
END:DAYLIGHT
BEGIN:STANDARD
TZOFFSETFROM:-0400
TZOFFSETTO:-0500
TZNAME:EST
DTSTART:20251102T060000
END:STANDARD
BEGIN:DAYLIGHT
TZOFFSETFROM:-0500
TZOFFSETTO:-0400
TZNAME:EDT
DTSTART:20260308T070000
END:DAYLIGHT
BEGIN:STANDARD
TZOFFSETFROM:-0400
TZOFFSETTO:-0500
TZNAME:EST
DTSTART:20261101T060000
END:STANDARD
BEGIN:DAYLIGHT
TZOFFSETFROM:-0500
TZOFFSETTO:-0400
TZNAME:EDT
DTSTART:20270314T070000
END:DAYLIGHT
BEGIN:STANDARD
TZOFFSETFROM:-0400
TZOFFSETTO:-0500
TZNAME:EST
DTSTART:20271107T060000
END:STANDARD
END:VTIMEZONE
BEGIN:VTIMEZONE
TZID:America/Detroit
BEGIN:DAYLIGHT
TZOFFSETFROM:-0500
TZOFFSETTO:-0400
TZNAME:EDT
DTSTART:20250309T070000
END:DAYLIGHT
BEGIN:STANDARD
TZOFFSETFROM:-0400
TZOFFSETTO:-0500
TZNAME:EST
DTSTART:20251102T060000
END:STANDARD
BEGIN:DAYLIGHT
TZOFFSETFROM:-0500
TZOFFSETTO:-0400
TZNAME:EDT
DTSTART:20260308T070000
END:DAYLIGHT
BEGIN:STANDARD
TZOFFSETFROM:-0400
TZOFFSETTO:-0500
TZNAME:EST
DTSTART:20261101T060000
END:STANDARD
BEGIN:DAYLIGHT
TZOFFSETFROM:-0500
TZOFFSETTO:-0400
TZNAME:EDT
DTSTART:20270314T070000
END:DAYLIGHT
BEGIN:STANDARD
TZOFFSETFROM:-0400
TZOFFSETTO:-0500
TZNAME:EST
DTSTART:20271107T060000
END:STANDARD
END:VTIMEZONE
BEGIN:VTIMEZONE
TZID:America/Chicago
BEGIN:DAYLIGHT
TZOFFSETFROM:-0600
TZOFFSETTO:-0500
TZNAME:CDT
DTSTART:20250309T080000
END:DAYLIGHT
BEGIN:STANDARD
TZOFFSETFROM:-0500
TZOFFSETTO:-0600
TZNAME:CST
DTSTART:20251102T070000
END:STANDARD
BEGIN:DAYLIGHT
TZOFFSETFROM:-0600
TZOFFSETTO:-0500
TZNAME:CDT
DTSTART:20260308T080000
END:DAYLIGHT
BEGIN:STANDARD
TZOFFSETFROM:-0500
TZOFFSETTO:-0600
TZNAME:CST
DTSTART:20261101T070000
END:STANDARD
BEGIN:DAYLIGHT
TZOFFSETFROM:-0600
TZOFFSETTO:-0500
TZNAME:CDT
DTSTART:20270314T080000
END:DAYLIGHT
BEGIN:STANDARD
TZOFFSETFROM:-0500
TZOFFSETTO:-0600
TZNAME:CST
DTSTART:20271107T070000
END:STANDARD
END:VTIMEZONE
BEGIN:VTIMEZONE
TZID:America/Indiana/Indianapolis
BEGIN:DAYLIGHT
TZOFFSETFROM:-0500
TZOFFSETTO:-0400
TZNAME:EDT
DTSTART:20250309T070000
END:DAYLIGHT
BEGIN:STANDARD
TZOFFSETFROM:-0400
TZOFFSETTO:-0500
TZNAME:EST
DTSTART:20251102T060000
END:STANDARD
BEGIN:DAYLIGHT
TZOFFSETFROM:-0500
TZOFFSETTO:-0400
TZNAME:EDT
DTSTART:20260308T070000
END:DAYLIGHT
BEGIN:STANDARD
TZOFFSETFROM:-0400
TZOFFSETTO:-0500
TZNAME:EST
DTSTART:20261101T060000
END:STANDARD
BEGIN:DAYLIGHT
TZOFFSETFROM:-0500
TZOFFSETTO:-0400
TZNAME:EDT
DTSTART:20270314T070000
END:DAYLIGHT
BEGIN:STANDARD
TZOFFSETFROM:-0400
TZOFFSETTO:-0500
TZNAME:EST
DTSTART:20271107T060000
END:STANDARD
END:VTIMEZONE
BEGIN:VTIMEZONE
TZID:America/Denver
BEGIN:DAYLIGHT
TZOFFSETFROM:-0700
TZOFFSETTO:-0600
TZNAME:MDT
DTSTART:20250309T090000
END:DAYLIGHT
BEGIN:STANDARD
TZOFFSETFROM:-0600
TZOFFSETTO:-0700
TZNAME:MST
DTSTART:20251102T080000
END:STANDARD
BEGIN:DAYLIGHT
TZOFFSETFROM:-0700
TZOFFSETTO:-0600
TZNAME:MDT
DTSTART:20260308T090000
END:DAYLIGHT
BEGIN:STANDARD
TZOFFSETFROM:-0600
TZOFFSETTO:-0700
TZNAME:MST
DTSTART:20261101T080000
END:STANDARD
BEGIN:DAYLIGHT
TZOFFSETFROM:-0700
TZOFFSETTO:-0600
TZNAME:MDT
DTSTART:20270314T090000
END:DAYLIGHT
BEGIN:STANDARD
TZOFFSETFROM:-0600
TZOFFSETTO:-0700
TZNAME:MST
DTSTART:20271107T080000
END:STANDARD
END:VTIMEZONE
BEGIN:VEVENT
DTSTART;TZID=America/New_York:20260422T133000
DTEND;TZID=America/New_York:20260422T143000
DTSTAMP:20260422T012134
CREATED:20260307T210505Z
LAST-MODIFIED:20260421T154938Z
UID:5383-1776864600-1776868200@usreaworkshops.org
SUMMARY:Medicare Made Easy with Sean Valentine
DESCRIPTION:Our FREE Medicare workshop offers the insights you need. Tap Sign Up now and make your Medicare journey smooth and stress-free!
URL:https://usreaworkshops.org/event/medicare-made-easy-with-sean-valentine-43/
LOCATION:Braden River Branch Library\, 4915 53rd Avenue East\, Bradenton\, FL\, 34203\, United States
ATTACH;FMTTYPE=image/jpeg:https://usreaworkshops.org/wp-content/uploads/2026/03/7b2944b18c5253af43a8123b6acc85ff.jpg
END:VEVENT
BEGIN:VEVENT
DTSTART;TZID=America/Detroit:20260422T133000
DTEND;TZID=America/Detroit:20260422T143000
DTSTAMP:20260422T012134
CREATED:20260319T000521Z
LAST-MODIFIED:20260421T154957Z
UID:5568-1776864600-1776868200@usreaworkshops.org
SUMMARY:Medicare Made Easy with Chadd Gulch
DESCRIPTION:Our FREE Medicare workshop offers the insights you need. Tap Sign Up now and make your Medicare journey smooth and stress-free!
URL:https://usreaworkshops.org/event/medicare-made-easy-with-chadd-gulch-6/
LOCATION:Kent District Library – Gaines Township Branch\, 421 68th Street Southeast\, Grand Rapids\, MI\, 49548\, United States
ATTACH;FMTTYPE=image/jpeg:https://usreaworkshops.org/wp-content/uploads/2026/03/082d158b3af8fbfec6a9fe9cab7750f0.jpg
END:VEVENT
BEGIN:VEVENT
DTSTART;TZID=America/Chicago:20260422T133000
DTEND;TZID=America/Chicago:20260422T143000
DTSTAMP:20260422T012134
CREATED:20260320T155552Z
LAST-MODIFIED:20260330T155233Z
UID:5577-1776864600-1776868200@usreaworkshops.org
SUMMARY:Medicare Made Easy with Lance Lipoufski
DESCRIPTION:Our FREE Medicare workshop offers the insights you need. Tap Sign Up now and make your Medicare journey smooth and stress-free!
URL:https://usreaworkshops.org/event/medicare-made-easy-with-lance-lipoufski-18/
LOCATION:City of Temple Public Library\, 100 West Adams Avenue\, ## 310\, Temple\, TX\, 76501\, United States
ATTACH;FMTTYPE=image/jpeg:https://usreaworkshops.org/wp-content/uploads/2026/03/0c62c6f0546192b385b582b8222ea5cc.jpg
END:VEVENT
BEGIN:VEVENT
DTSTART;TZID=America/Indiana/Indianapolis:20260422T140000
DTEND;TZID=America/Indiana/Indianapolis:20260422T150000
DTSTAMP:20260422T012134
CREATED:20260312T195432Z
LAST-MODIFIED:20260421T154920Z
UID:5479-1776866400-1776870000@usreaworkshops.org
SUMMARY:Medicare Made Easy with Ryan Templeton
DESCRIPTION:Our FREE Medicare workshop offers the insights you need. Tap Sign Up now and make your Medicare journey smooth and stress-free!
URL:https://usreaworkshops.org/event/medicare-made-easy-with-ryan-templeton-22/
LOCATION:Indianapolis Public Library – Lawrence Branch\, 7898 Hague Road\, Indianapolis\, IN\, 46256\, United States
ATTACH;FMTTYPE=image/jpeg:https://usreaworkshops.org/wp-content/uploads/2026/01/8424160cc334c5936a29b28dbaef567d.jpg
END:VEVENT
BEGIN:VEVENT
DTSTART;TZID=America/Denver:20260422T180000
DTEND;TZID=America/Denver:20260422T190000
DTSTAMP:20260422T012134
CREATED:20260310T195356Z
LAST-MODIFIED:20260421T154954Z
UID:5468-1776880800-1776884400@usreaworkshops.org
SUMMARY:Medicare Made Easy with Jim Garey
DESCRIPTION:Our FREE Medicare workshop offers the insights you need. Tap Sign Up now and make your Medicare journey smooth and stress-free!
URL:https://usreaworkshops.org/event/medicare-made-easy-with-jim-garey-31/
LOCATION:Standley Lake Library – Jefferson County Public Library\, 8485 Kipling Street\, Arvada\, CO\, 80005\, United States
ATTACH;FMTTYPE=image/jpeg:https://usreaworkshops.org/wp-content/uploads/2026/03/c3d01b8e1657c8662bab953bc9fffcf4.jpg
END:VEVENT
BEGIN:VEVENT
DTSTART;TZID=America/New_York:20260422T180000
DTEND;TZID=America/New_York:20260422T190000
DTSTAMP:20260422T012134
CREATED:20260324T155146Z
LAST-MODIFIED:20260421T155012Z
UID:5606-1776880800-1776884400@usreaworkshops.org
SUMMARY:Medicare Made Easy with Larry Riddell
DESCRIPTION:Our FREE Medicare workshop offers the insights you need. Tap Sign Up now and make your Medicare journey smooth and stress-free!
URL:https://usreaworkshops.org/event/medicare-made-easy-with-larry-riddell-18/
LOCATION:Avon Lake Public Library\, 32649 Electric Boulevard\, Avon Lake\, OH\, 44012\, United States
ATTACH;FMTTYPE=image/jpeg:https://usreaworkshops.org/wp-content/uploads/2026/03/4ebc65f546d0f82df12e02d5ea5e0a57.jpg
END:VEVENT
BEGIN:VEVENT
DTSTART;TZID=America/Chicago:20260422T180000
DTEND;TZID=America/Chicago:20260422T190000
DTSTAMP:20260422T012134
CREATED:20260324T155150Z
LAST-MODIFIED:20260421T155011Z
UID:5609-1776880800-1776884400@usreaworkshops.org
SUMMARY:Medicare Made Easy with Greg Greenwalt
DESCRIPTION:Our FREE Medicare workshop offers the insights you need. Tap Sign Up now and make your Medicare journey smooth and stress-free!
URL:https://usreaworkshops.org/event/medicare-made-easy-with-greg-greenwalt-20/
LOCATION:Mid-Continent Public Library – Grandview Branch\, 12930 Booth Lane\, Grandview\, MO\, 64030\, United States
ATTACH;FMTTYPE=image/jpeg:https://usreaworkshops.org/wp-content/uploads/2026/03/0a2a796447012a53bdeac7d07ddb5b02.jpg
END:VEVENT
BEGIN:VEVENT
DTSTART;TZID=America/Indiana/Indianapolis:20260422T180000
DTEND;TZID=America/Indiana/Indianapolis:20260422T190000
DTSTAMP:20260422T012134
CREATED:20260416T195351Z
LAST-MODIFIED:20260421T155047Z
UID:5756-1776880800-1776884400@usreaworkshops.org
SUMMARY:Medicare Made Easy with Ryan Templeton
DESCRIPTION:Our FREE Medicare workshop offers the insights you need. Tap Sign Up now and make your Medicare journey smooth and stress-free!\n\n\nMedicare 101: Everything You Need to Know! \nPresented by the U.S. Retirement Education Association \nJoin us for a complimentary 45-minute educational workshop designed to help individuals approaching age 65 navigate the complexities of Medicare with confidence. \n🎓 What You’ll Learn \nThis session will answer key questions such as: \n\nHow do Medicare Parts A & B work?\n\n\nWhat are the costs involved?\n\n\nIs enrollment mandatory?\n\n\nCan I keep my employer’s plan?\n\n\nWhat plan options are available in my area?\n\n\nCan my spouse and I choose different plans?\n\n👤 Featured Presenter: Ryan Templeton \nRyan is the Owner and Regional Director of Premier Health Advisors. He and his wife\, Sarah\, reside in Mccordsville\, IN with their 2 children. PHA services all of Indiana\, Ohio\, and Kentucky. Ryan found early on in his career that his true passion and calling was to help people. After working as a captive agent under one company since the start of his career\, he took a leap of faith and went out on his own. After many years in the industry\, his career goal was to develop his own agency with a true “client first” mentality. \n \nSecure Your Spot and Register Here: \nRyan Templeton – Medicare 101 \n \n\nThis is a free educational event—no sales or plan-specific details will be discussed.\n\n\nYour information is kept secure and confidential.\n\n\nPlease provide a valid email and phone number for confirmation purposes.\n\n🎟️ Reserve Your Seat Today! \nSeats are limited. Register now to secure your spot at one of our upcoming sessions. \nDisclaimer: We do not offer every plan avail. in your area. Currently we represent 6 orgs which offer 51 products in your area. Please contact Medicare.gov\, 1-800-MEDICARE\, or your local State Health Insurance Program (SHIP) to get information on all of your options.
URL:https://usreaworkshops.org/event/medicare-made-easy-with-ryan-templeton-24/
LOCATION:Hussey-Mayfield Memorial Public Library – Zionsville Branch\, 250 North 5th Street\, Zionsville\, IN\, 46077\, United States
ATTACH;FMTTYPE=image/jpeg:https://usreaworkshops.org/wp-content/uploads/2026/04/dc41ee155731b152dc99d95d9a2e8a42.jpg
END:VEVENT
BEGIN:VEVENT
DTSTART;TZID=America/Denver:20260422T180000
DTEND;TZID=America/Denver:20260422T190000
DTSTAMP:20260422T012134
CREATED:20260418T035326Z
LAST-MODIFIED:20260421T155048Z
UID:5770-1776880800-1776884400@usreaworkshops.org
SUMMARY:Medicare Made Easy with Jacob Rhodes
DESCRIPTION:Our FREE Medicare workshop offers the insights you need. Tap Sign Up now and make your Medicare journey smooth and stress-free!
URL:https://usreaworkshops.org/event/medicare-made-easy-with-jacob-rhodes/
LOCATION:Draper Library\, 1136 Pioneer Road\, Draper\, UT\, 84020\, United States
ATTACH;FMTTYPE=image/jpeg:https://usreaworkshops.org/wp-content/uploads/2026/04/ee570c73f8fd1dc5386ee53a4e1eb9d5.jpg
END:VEVENT
BEGIN:VEVENT
DTSTART;TZID=America/New_York:20260422T180000
DTEND;TZID=America/New_York:20260422T190000
DTSTAMP:20260422T012134
CREATED:20260418T035340Z
LAST-MODIFIED:20260421T155048Z
UID:5774-1776880800-1776884400@usreaworkshops.org
SUMMARY:Medicare Made Easy with Todd VanDyk
DESCRIPTION:Our FREE Medicare workshop offers the insights you need. Tap Sign Up now and make your Medicare journey smooth and stress-free!\n\n\nMedicare 101: Everything You Need to Know! \nPresented by the U.S. Retirement Education Association \nJoin us for a complimentary 45-minute educational workshop designed to help individuals approaching age 65 navigate the complexities of Medicare with confidence. \n🎓 What You’ll Learn \nThis session will answer key questions such as: \n\nHow do Medicare Parts A & B work?\n\n\nWhat are the costs involved?\n\n\nIs enrollment mandatory?\n\n\nCan I keep my employer’s plan?\n\n\nWhat plan options are available in my area?\n\n\nCan my spouse and I choose different plans?\n\n👤 Featured Presenter: Todd VanDyk \nTodd VanDyk is a dedicated community educator who specializes in helping individuals navigate the complexities of Medicare and retirement planning. With years of experience supporting adults as they transition into retirement\, Todd is passionate about providing clear\, unbiased information that empowers people to make informed decisions about their future. \n \nSecure Your Spot and Register Here: \nTodd VanDyk – Medicare 101 \n \n✅ Important Notes \n\nThis is a free educational event—no sales or plan-specific details will be discussed.\n\n\nYour information is kept secure and confidential.\n\n\nPlease provide a valid email and phone number for confirmation purposes.\n\n🎟️ Reserve Your Seat Today! \nSeats are limited. Register now to secure your spot at one of our upcoming sessions. \nDisclaimer: We do not offer every plan available in your area. Currently we represent 8 organizations which offer 36 products in your area. Please contact Medicare.gov or 1-800-MEDICARE\, or your local State Health Insurance Program for help with plan choices. \nBy submitting this form\, you consent to being contacted by a licensed representative of the U.S. Retirement Education Association. Your personal information will remain confidential and will never be sold. By clicking ‘Continue\,’ you agree to receive text communications.
URL:https://usreaworkshops.org/event/medicare-made-easy-with-todd-vandyk-16/
LOCATION:Northwest Regional Library\, 519 Chiquita Boulevard North\, Cape Coral\, FL\, 33993\, United States
ATTACH;FMTTYPE=image/jpeg:https://usreaworkshops.org/wp-content/uploads/2026/04/12dc67310d082f4200b4189c08e312af.jpg
END:VEVENT
END:VCALENDAR