BEGIN:VCALENDAR
VERSION:2.0
PRODID:-//US Retirement Education Association - ECPv6.15.20//NONSGML v1.0//EN
CALSCALE:GREGORIAN
METHOD:PUBLISH
X-WR-CALNAME:US Retirement Education Association
X-ORIGINAL-URL:https://usreaworkshops.org
X-WR-CALDESC:Events for US Retirement Education Association
REFRESH-INTERVAL;VALUE=DURATION:PT1H
X-Robots-Tag:noindex
X-PUBLISHED-TTL:PT1H
BEGIN:VTIMEZONE
TZID:America/New_York
BEGIN:DAYLIGHT
TZOFFSETFROM:-0500
TZOFFSETTO:-0400
TZNAME:EDT
DTSTART:20250309T070000
END:DAYLIGHT
BEGIN:STANDARD
TZOFFSETFROM:-0400
TZOFFSETTO:-0500
TZNAME:EST
DTSTART:20251102T060000
END:STANDARD
BEGIN:DAYLIGHT
TZOFFSETFROM:-0500
TZOFFSETTO:-0400
TZNAME:EDT
DTSTART:20260308T070000
END:DAYLIGHT
BEGIN:STANDARD
TZOFFSETFROM:-0400
TZOFFSETTO:-0500
TZNAME:EST
DTSTART:20261101T060000
END:STANDARD
BEGIN:DAYLIGHT
TZOFFSETFROM:-0500
TZOFFSETTO:-0400
TZNAME:EDT
DTSTART:20270314T070000
END:DAYLIGHT
BEGIN:STANDARD
TZOFFSETFROM:-0400
TZOFFSETTO:-0500
TZNAME:EST
DTSTART:20271107T060000
END:STANDARD
END:VTIMEZONE
BEGIN:VTIMEZONE
TZID:America/Indiana/Indianapolis
BEGIN:DAYLIGHT
TZOFFSETFROM:-0500
TZOFFSETTO:-0400
TZNAME:EDT
DTSTART:20250309T070000
END:DAYLIGHT
BEGIN:STANDARD
TZOFFSETFROM:-0400
TZOFFSETTO:-0500
TZNAME:EST
DTSTART:20251102T060000
END:STANDARD
BEGIN:DAYLIGHT
TZOFFSETFROM:-0500
TZOFFSETTO:-0400
TZNAME:EDT
DTSTART:20260308T070000
END:DAYLIGHT
BEGIN:STANDARD
TZOFFSETFROM:-0400
TZOFFSETTO:-0500
TZNAME:EST
DTSTART:20261101T060000
END:STANDARD
BEGIN:DAYLIGHT
TZOFFSETFROM:-0500
TZOFFSETTO:-0400
TZNAME:EDT
DTSTART:20270314T070000
END:DAYLIGHT
BEGIN:STANDARD
TZOFFSETFROM:-0400
TZOFFSETTO:-0500
TZNAME:EST
DTSTART:20271107T060000
END:STANDARD
END:VTIMEZONE
BEGIN:VTIMEZONE
TZID:America/Chicago
BEGIN:DAYLIGHT
TZOFFSETFROM:-0600
TZOFFSETTO:-0500
TZNAME:CDT
DTSTART:20250309T080000
END:DAYLIGHT
BEGIN:STANDARD
TZOFFSETFROM:-0500
TZOFFSETTO:-0600
TZNAME:CST
DTSTART:20251102T070000
END:STANDARD
BEGIN:DAYLIGHT
TZOFFSETFROM:-0600
TZOFFSETTO:-0500
TZNAME:CDT
DTSTART:20260308T080000
END:DAYLIGHT
BEGIN:STANDARD
TZOFFSETFROM:-0500
TZOFFSETTO:-0600
TZNAME:CST
DTSTART:20261101T070000
END:STANDARD
BEGIN:DAYLIGHT
TZOFFSETFROM:-0600
TZOFFSETTO:-0500
TZNAME:CDT
DTSTART:20270314T080000
END:DAYLIGHT
BEGIN:STANDARD
TZOFFSETFROM:-0500
TZOFFSETTO:-0600
TZNAME:CST
DTSTART:20271107T070000
END:STANDARD
END:VTIMEZONE
BEGIN:VTIMEZONE
TZID:America/Denver
BEGIN:DAYLIGHT
TZOFFSETFROM:-0700
TZOFFSETTO:-0600
TZNAME:MDT
DTSTART:20250309T090000
END:DAYLIGHT
BEGIN:STANDARD
TZOFFSETFROM:-0600
TZOFFSETTO:-0700
TZNAME:MST
DTSTART:20251102T080000
END:STANDARD
BEGIN:DAYLIGHT
TZOFFSETFROM:-0700
TZOFFSETTO:-0600
TZNAME:MDT
DTSTART:20260308T090000
END:DAYLIGHT
BEGIN:STANDARD
TZOFFSETFROM:-0600
TZOFFSETTO:-0700
TZNAME:MST
DTSTART:20261101T080000
END:STANDARD
BEGIN:DAYLIGHT
TZOFFSETFROM:-0700
TZOFFSETTO:-0600
TZNAME:MDT
DTSTART:20270314T090000
END:DAYLIGHT
BEGIN:STANDARD
TZOFFSETFROM:-0600
TZOFFSETTO:-0700
TZNAME:MST
DTSTART:20271107T080000
END:STANDARD
END:VTIMEZONE
BEGIN:VEVENT
DTSTART;TZID=America/New_York:20260421T113000
DTEND;TZID=America/New_York:20260421T123000
DTSTAMP:20260421T012821
CREATED:20260312T195631Z
LAST-MODIFIED:20260324T155053Z
UID:5518-1776771000-1776774600@usreaworkshops.org
SUMMARY:Medicare Made Easy with Larry Riddell
DESCRIPTION:Our FREE Medicare workshop offers the insights you need. Tap Sign Up now and make your Medicare journey smooth and stress-free!
URL:https://usreaworkshops.org/event/medicare-made-easy-with-larry-riddell-16/
LOCATION:Lorain Public Library System North Ridgeville Branch\, 35700 Bainbridge Road\, North Ridgeville\, OH\, 44039\, United States
ATTACH;FMTTYPE=image/jpeg:https://usreaworkshops.org/wp-content/uploads/2026/03/db71445f6e838672e05cc8af528811b6.jpg
END:VEVENT
BEGIN:VEVENT
DTSTART;TZID=America/Indiana/Indianapolis:20260421T113000
DTEND;TZID=America/Indiana/Indianapolis:20260421T123000
DTSTAMP:20260421T012821
CREATED:20260416T195321Z
LAST-MODIFIED:20260419T155243Z
UID:5741-1776771000-1776774600@usreaworkshops.org
SUMMARY:Medicare Made Easy with Walt Scheid
DESCRIPTION:Our FREE Medicare workshop offers the insights you need. Tap Sign Up now and make your Medicare journey smooth and stress-free!\n\n\nMedicare 101: Everything You Need to Know! \nPresented by the U.S. Retirement Education Association \nJoin us for a complimentary 45-minute educational workshop designed to help individuals approaching age 65 navigate the complexities of Medicare with confidence. \n🎓 What You’ll Learn \nThis session will answer key questions such as: \n\nHow do Medicare Parts A & B work?\n\n\nWhat are the costs involved?\n\n\nIs enrollment mandatory?\n\n\nCan I keep my employer’s plan?\n\n\nWhat plan options are available in my area?\n\n\nCan my spouse and I choose different plans?\n\n👤 Featured Presenter: Walt Scheid \nWalt Scheid is a dedicated community educator who specializes in helping individuals navigate the complexities of Medicare and retirement planning. With years of experience supporting adults as they transition into retirement\, Walt is passionate about providing clear\, unbiased information that empowers people to make informed decisions about their future. \n \nSecure Your Spot and Register Here: \nWalter Scheid – Medicare 101 \n \n✅ Important Notes \n\nThis is a free educational event—no sales or plan-specific details will be discussed.\n\n\nYour information is kept secure and confidential.\n\n\nPlease provide a valid email and phone number for confirmation purposes.\n\n🎟️ Reserve Your Seat Today! \nSeats are limited. Register now to secure your spot at one of our upcoming sessions. \nDisclaimer: We do not offer every plan avail. in your area. Currently we represent 9 orgs which offer 72 products in your area. Please contact Medicare.gov\, 1-800-MEDICARE\, or your local State Health Insurance Program (SHIP) to get information on all of your options. \nBy submitting this form\, you consent to being contacted by a licensed representative of the U.S. Retirement Education Association. Your personal information will remain confidential and will never be sold. By clicking ‘Continue\,’ you agree to receive text communications.
URL:https://usreaworkshops.org/event/medicare-made-easy-with-walt-scheid-31/
LOCATION:Putnam County Public Library\, 103 East Poplar Street\, Greencastle\, IN\, 46135\, United States
ATTACH;FMTTYPE=image/jpeg:https://usreaworkshops.org/wp-content/uploads/2026/04/def9451e7fa8b2e354844eb47e19dce7.jpg
END:VEVENT
BEGIN:VEVENT
DTSTART;TZID=America/New_York:20260421T130000
DTEND;TZID=America/New_York:20260421T140000
DTSTAMP:20260421T012821
CREATED:20260416T195324Z
LAST-MODIFIED:20260419T155244Z
UID:5743-1776776400-1776780000@usreaworkshops.org
SUMMARY:Medicare Made Easy with Jonathan Adams
DESCRIPTION:Our FREE Medicare workshop offers the insights you need. Tap Sign Up now and make your Medicare journey smooth and stress-free!\n\n\nMedicare 101: Everything You Need to Know! \nPresented by the U.S. Retirement Education Association \nJoin us for a complimentary 45-minute educational workshop designed to help individuals approaching age 65 navigate the complexities of Medicare with confidence. \n🎓 What You’ll Learn \nThis session will answer key questions such as: \n\nHow do Medicare Parts A & B work?\n\n\nWhat are the costs involved?\n\n\nIs enrollment mandatory?\n\n\nCan I keep my employer’s plan?\n\n\nWhat plan options are available in my area?\n\n\nCan my spouse and I choose different plans?\n\n👤 Featured Presenter: Jonathan Adams \nJonathan has been a fiduciary and insurance advisor in Florida for over 25 years. He helps clients navigate Medicare and offers a range of coverage options with Florida Retirement Group. Jonathan holds an MBA from Stetson University and has a background in sports management and kinesiology. Previously a soccer coach for over 20 years\, he now applies those values to retirement planning. Jonathan enjoys spending time with his wife Kristina\, their two children\, and engaging in soccer\, fishing\, and surfing. \n✅ Important Notes \n\nThis is a free educational event—no sales or plan-specific details will be discussed.\n\n\nYour information is kept secure and confidential.\n\n\nPlease provide a valid email and phone number for confirmation purposes.\n\n🎟️ Reserve Your Seat Today! \nSeats are limited. Register now to secure your spot at one of our upcoming sessions. \nDisclaimer: We do not offer every plan available in your area. Currently we represent 12 organizations which offer 87 products in your area. Please contact Medicare.gov or 1-800-MEDICARE\, or your local State Health Insurance Program for help with plan choices. \nBy submitting this form\, you consent to being contacted by a licensed representative of the U.S. Retirement Education Association. Your personal information will remain confidential and will never be sold. By clicking ‘Continue\,’ you agree to receive text communications.
URL:https://usreaworkshops.org/event/medicare-made-easy-with-jonathan-adams-17/
LOCATION:2500 Palm Coast Pkwy NW\, 2500 Palm Coast Parkway Northwest\, Palm Coast\, FL\, 32137\, United States
ATTACH;FMTTYPE=image/jpeg:https://usreaworkshops.org/wp-content/uploads/2026/04/cbd6da010eabb4e18999916fcd70686a.jpg
END:VEVENT
BEGIN:VEVENT
DTSTART;TZID=America/New_York:20260421T133000
DTEND;TZID=America/New_York:20260421T143000
DTSTAMP:20260421T012821
CREATED:20260312T195455Z
LAST-MODIFIED:20260419T155124Z
UID:5485-1776778200-1776781800@usreaworkshops.org
SUMMARY:Medicare Made Easy with Todd VanDyk
DESCRIPTION:Our FREE Medicare workshop offers the insights you need. Tap Sign Up now and make your Medicare journey smooth and stress-free!
URL:https://usreaworkshops.org/event/medicare-made-easy-with-todd-vandyk-15/
LOCATION:Faith Presbyterian Church\, 4544 Coronado Parkway\, Cape Coral\, FL\, 33904\, United States
ATTACH;FMTTYPE=image/jpeg:https://usreaworkshops.org/wp-content/uploads/2026/02/44dce261f36ed47936de5317c0442370.jpg
END:VEVENT
BEGIN:VEVENT
DTSTART;TZID=America/New_York:20260421T133000
DTEND;TZID=America/New_York:20260421T143000
DTSTAMP:20260421T012821
CREATED:20260416T195327Z
LAST-MODIFIED:20260419T155256Z
UID:5746-1776778200-1776781800@usreaworkshops.org
SUMMARY:Medicare Made Easy with Yogi Thompson
DESCRIPTION:Our FREE Medicare workshop offers the insights you need. Tap Sign Up now and make your Medicare journey smooth and stress-free!
URL:https://usreaworkshops.org/event/medicare-made-easy-with-yogi-thompson-26/
LOCATION:Evansville Vanderburgh Public Library – McCollough\, 5115 Washington Ave.\, Evansville\, IN\, 47715\, United States
ATTACH;FMTTYPE=image/jpeg:https://usreaworkshops.org/wp-content/uploads/2026/04/a3230e3284ce74d6c8108220e6d9e826.jpg
END:VEVENT
BEGIN:VEVENT
DTSTART;TZID=America/New_York:20260421T180000
DTEND;TZID=America/New_York:20260421T190000
DTSTAMP:20260421T012821
CREATED:20260307T210444Z
LAST-MODIFIED:20260419T155139Z
UID:5378-1776794400-1776798000@usreaworkshops.org
SUMMARY:Medicare Made Easy with Sean Valentine
DESCRIPTION:Our FREE Medicare workshop offers the insights you need. Tap Sign Up now and make your Medicare journey smooth and stress-free!
URL:https://usreaworkshops.org/event/medicare-made-easy-with-sean-valentine-40/
LOCATION:Lakewood Ranch Library\, 16410 Rangeland Parkway\, Bradenton\, FL\, 34211\, United States
ATTACH;FMTTYPE=image/jpeg:https://usreaworkshops.org/wp-content/uploads/2026/03/426d83512fc107fd537e47cd4deb95e2.jpg
END:VEVENT
BEGIN:VEVENT
DTSTART;TZID=America/Chicago:20260421T180000
DTEND;TZID=America/Chicago:20260421T190000
DTSTAMP:20260421T012821
CREATED:20260310T195359Z
LAST-MODIFIED:20260419T155155Z
UID:5471-1776794400-1776798000@usreaworkshops.org
SUMMARY:Medicare Made Easy with Greg Greenwalt
DESCRIPTION:Our FREE Medicare workshop offers the insights you need. Tap Sign Up now and make your Medicare journey smooth and stress-free!
URL:https://usreaworkshops.org/event/medicare-made-easy-with-greg-greenwalt-17/
LOCATION:Mid-Continent Public Library – East Lee’s Summit Branch\, 2240 Southeast Blue Parkway\, Lee's Summit\, MO\, 64063\, United States
ATTACH;FMTTYPE=image/jpeg:https://usreaworkshops.org/wp-content/uploads/2026/03/2937b25f27f904678344a72626726e64.jpg
END:VEVENT
BEGIN:VEVENT
DTSTART;TZID=America/Denver:20260421T180000
DTEND;TZID=America/Denver:20260421T190000
DTSTAMP:20260421T012821
CREATED:20260314T040722Z
LAST-MODIFIED:20260419T155209Z
UID:5544-1776794400-1776798000@usreaworkshops.org
SUMMARY:Medicare Made Easy with Jim Garey
DESCRIPTION:Our FREE Medicare workshop offers the insights you need. Tap Sign Up now and make your Medicare journey smooth and stress-free!
URL:https://usreaworkshops.org/event/medicare-made-easy-with-jim-garey-33/
LOCATION:Koelbel Library (Arapahoe Libraries)\, 5955 South Holly Street\, Centennial\, CO\, 80121\, United States
ATTACH;FMTTYPE=image/jpeg:https://usreaworkshops.org/wp-content/uploads/2026/03/0f8cbfc1c56e3207ab72e21b01e3340d.jpg
END:VEVENT
BEGIN:VEVENT
DTSTART;TZID=America/New_York:20260421T180000
DTEND;TZID=America/New_York:20260421T190000
DTSTAMP:20260421T012821
CREATED:20260416T195332Z
LAST-MODIFIED:20260419T155257Z
UID:5750-1776794400-1776798000@usreaworkshops.org
SUMMARY:Medicare Made Easy with Larry Riddell
DESCRIPTION:Our FREE Medicare workshop offers the insights you need. Tap Sign Up now and make your Medicare journey smooth and stress-free!
URL:https://usreaworkshops.org/event/medicare-made-easy-with-larry-riddell-20/
LOCATION:Lorain Public Library System North Ridgeville Branch\, 35700 Bainbridge Road\, North Ridgeville\, OH\, 44039\, United States
ATTACH;FMTTYPE=image/jpeg:https://usreaworkshops.org/wp-content/uploads/2026/04/c3a89066769db3fbfbe6755deb2575b2.jpg
END:VEVENT
BEGIN:VEVENT
DTSTART;TZID=America/New_York:20260421T180000
DTEND;TZID=America/New_York:20260421T190000
DTSTAMP:20260421T012821
CREATED:20260416T195347Z
LAST-MODIFIED:20260419T155256Z
UID:5753-1776794400-1776798000@usreaworkshops.org
SUMMARY:Medicare Made Easy with Chaz Mulherin Webinar
DESCRIPTION:Our FREE Medicare webinar offers the insights you need. Tap Sign Up now and make your Medicare journey smooth and stress-free!\n\n\nMedicare 101: Everything You Need to Know! \nPresented by the U.S. Retirement Education Association \nJoin us for a complimentary 45-minute educational workshop designed to help individuals approaching age 65 navigate the complexities of Medicare with confidence. \n🎓 What You’ll Learn \nThis session will answer key questions such as: \n\nHow do Medicare Parts A & B work?\n\n\nWhat are the costs involved?\n\n\nIs enrollment mandatory?\n\n\nCan I keep my employer’s plan?\n\n\nWhat plan options are available in my area?\n\n\nCan my spouse and I choose different plans?\n\n👤 Featured Presenter: Chaz Mulherin \nChaz has been licensed in Florida since February of 2009. He started his insurance career with a company called Great American Senior Benefits\, based out of Cincinnati Ohio. In 2010\, he started his own company\, My Medicare Hotline and has since helped over 1\,000 seniors enroll in Medicare and choose a Medicare plan. He is contracted with every Medicare plan in Florida. Chaz takes great pride to ensure that every client is enrolled in a plan that best suits their needs. Because he is not tied to one company\, you’re sure to receive an unbiased opinion. \n \nSecure Your Spot and Register Here: \nhttps://usmedi.care/chaz-mulherin \n \n✅ Important Notes \n\nThis is a free educational event—no sales or plan-specific details will be discussed.\n\n\nYour information is kept secure and confidential.\n\n\nPlease provide a valid email and phone number for confirmation purposes.\n\n🎟️ Reserve Your Seat Today! \nSeats are limited. Register now to secure your spot at one of our upcoming sessions. \nDisclaimer: Currently\, we represent 11 organizations which offer 48 products in your area. You may also contact Medicare.gov\, 1-800-MEDICARE\, or your local State Health Insurance Program (SHIP) for help with plan choices. \nBy submitting this form\, you consent to being contacted by a licensed representative of the U.S. Retirement Education Association. Your personal information will remain confidential and will never be sold. By clicking ‘Continue\,’ you agree to receive text communications.
URL:https://usreaworkshops.org/event/medicare-made-easy-with-chaz-mulherin-webinar-13/
LOCATION:IL
ATTACH;FMTTYPE=image/jpeg:https://usreaworkshops.org/wp-content/uploads/2026/04/131e1221517deae7912f50565af9e278.jpg
END:VEVENT
END:VCALENDAR